BEGIN:VCALENDAR
VERSION:2.0
PRODID:icalendar-ruby
CALSCALE:GREGORIAN
METHOD:PUBLISH
BEGIN:VEVENT
DTSTAMP:20260421T031146Z
UID:7-493949@boonevillefupc.com
DTSTART:20261025T160000Z
DTEND:20261025T170000Z
CLASS:PUBLIC
CREATED:20260420T194944
DESCRIPTION:
LAST-MODIFIED:20260420T194944
LOCATION:Main Campus Sanctuary
SUMMARY:Worship Service
URL;VALUE=URI:https://www.boonevillefupc.com/events/worship-service--7/2026
 -10-25
END:VEVENT
END:VCALENDAR
