BEGIN:VCALENDAR
VERSION:2.0
PRODID:icalendar-ruby
CALSCALE:GREGORIAN
METHOD:PUBLISH
BEGIN:VEVENT
DTSTAMP:20260420T222044Z
UID:7-493544@boonevillefupc.com
DTSTART:20261004T160000Z
DTEND:20261004T170000Z
CLASS:PUBLIC
CREATED:20260420T171452
DESCRIPTION:
LAST-MODIFIED:20260420T171452
LOCATION:Main Campus Sanctuary
SUMMARY:Worship Service
URL;VALUE=URI:https://www.boonevillefupc.com/events/worship-service--7/2026
 -10-04
END:VEVENT
END:VCALENDAR
