BEGIN:VCALENDAR
VERSION:2.0
PRODID:icalendar-ruby
CALSCALE:GREGORIAN
METHOD:PUBLISH
BEGIN:VEVENT
DTSTAMP:20260420T191632Z
UID:7-492738@boonevillefupc.com
DTSTART:20260920T160000Z
DTEND:20260920T170000Z
CLASS:PUBLIC
CREATED:20260420T120407
DESCRIPTION:
LAST-MODIFIED:20260420T120407
LOCATION:Main Campus Sanctuary
SUMMARY:Worship Service
URL;VALUE=URI:https://www.boonevillefupc.com/events/worship-service--7/2026
 -09-20
END:VEVENT
END:VCALENDAR
