BEGIN:VCALENDAR
VERSION:2.0
PRODID:icalendar-ruby
CALSCALE:GREGORIAN
METHOD:PUBLISH
BEGIN:VEVENT
DTSTAMP:20260420T145432Z
UID:7-492333@boonevillefupc.com
DTSTART:20260830T160000Z
DTEND:20260830T170000Z
CLASS:PUBLIC
CREATED:20260420T093009
DESCRIPTION:
LAST-MODIFIED:20260420T093009
LOCATION:Main Campus Sanctuary
SUMMARY:Worship Service
URL;VALUE=URI:https://www.boonevillefupc.com/events/worship-service--7/2026
 -08-30
END:VEVENT
END:VCALENDAR
