BEGIN:VCALENDAR
VERSION:2.0
PRODID:icalendar-ruby
CALSCALE:GREGORIAN
METHOD:PUBLISH
BEGIN:VEVENT
DTSTAMP:20260420T132653Z
UID:7-491930@boonevillefupc.com
DTSTART:20260823T160000Z
DTEND:20260823T170000Z
CLASS:PUBLIC
CREATED:20260420T065459
DESCRIPTION:
LAST-MODIFIED:20260420T065459
LOCATION:Main Campus Sanctuary
SUMMARY:Worship Service
URL;VALUE=URI:https://www.boonevillefupc.com/events/worship-service--7/2026
 -08-23
END:VEVENT
END:VCALENDAR
