BEGIN:VCALENDAR
VERSION:2.0
PRODID:icalendar-ruby
CALSCALE:GREGORIAN
METHOD:PUBLISH
BEGIN:VEVENT
DTSTAMP:20260420T100818Z
UID:7-491526@boonevillefupc.com
DTSTART:20260809T160000Z
DTEND:20260809T170000Z
CLASS:PUBLIC
CREATED:20260420T020804
DESCRIPTION:
LAST-MODIFIED:20260420T020804
LOCATION:Main Campus Sanctuary
SUMMARY:Worship Service
URL;VALUE=URI:https://www.boonevillefupc.com/events/worship-service--7/2026
 -08-09
END:VEVENT
END:VCALENDAR
