BEGIN:VCALENDAR
VERSION:2.0
PRODID:icalendar-ruby
CALSCALE:GREGORIAN
METHOD:PUBLISH
BEGIN:VEVENT
DTSTAMP:20260422T231015Z
UID:6-497836@boonevillefupc.com
DTSTART:20261101T160000Z
DTEND:20261102T050000Z
CLASS:PUBLIC
CREATED:20260422T155458
DESCRIPTION:
LAST-MODIFIED:20260422T155458
LOCATION:Main Campus Sanctuary
SUMMARY:Sunday School
URL;VALUE=URI:https://www.boonevillefupc.com/events/sunday-school/2026-11-0
 1
END:VEVENT
END:VCALENDAR
