BEGIN:VCALENDAR
VERSION:2.0
PRODID:icalendar-ruby
CALSCALE:GREGORIAN
METHOD:PUBLISH
BEGIN:VEVENT
DTSTAMP:20260422T214732Z
UID:6-497835@boonevillefupc.com
DTSTART:20261025T150000Z
DTEND:20261026T040000Z
CLASS:PUBLIC
CREATED:20260422T155458
DESCRIPTION:
LAST-MODIFIED:20260422T155458
LOCATION:Main Campus Sanctuary
SUMMARY:Sunday School
URL;VALUE=URI:https://www.boonevillefupc.com/events/sunday-school/2026-10-2
 5
END:VEVENT
END:VCALENDAR
