BEGIN:VCALENDAR
VERSION:2.0
PRODID:icalendar-ruby
CALSCALE:GREGORIAN
METHOD:PUBLISH
BEGIN:VEVENT
DTSTAMP:20260422T184936Z
UID:6-497431@boonevillefupc.com
DTSTART:20261011T150000Z
DTEND:20261012T040000Z
CLASS:PUBLIC
CREATED:20260422T125952
DESCRIPTION:
LAST-MODIFIED:20260422T125952
LOCATION:Main Campus Sanctuary
SUMMARY:Sunday School
URL;VALUE=URI:https://www.boonevillefupc.com/events/sunday-school/2026-10-1
 1
END:VEVENT
END:VCALENDAR
