BEGIN:VCALENDAR
VERSION:2.0
PRODID:icalendar-ruby
CALSCALE:GREGORIAN
METHOD:PUBLISH
BEGIN:VEVENT
DTSTAMP:20260422T173527Z
UID:6-497028@boonevillefupc.com
DTSTART:20261004T150000Z
DTEND:20261005T040000Z
CLASS:PUBLIC
CREATED:20260422T100442
DESCRIPTION:
LAST-MODIFIED:20260422T100442
LOCATION:Main Campus Sanctuary
SUMMARY:Sunday School
URL;VALUE=URI:https://www.boonevillefupc.com/events/sunday-school/2026-10-0
 4
END:VEVENT
END:VCALENDAR
