BEGIN:VCALENDAR
VERSION:2.0
PRODID:icalendar-ruby
CALSCALE:GREGORIAN
METHOD:PUBLISH
BEGIN:VEVENT
DTSTAMP:20260422T144211Z
UID:6-496624@boonevillefupc.com
DTSTART:20260920T150000Z
DTEND:20260921T040000Z
CLASS:PUBLIC
CREATED:20260422T070945
DESCRIPTION:
LAST-MODIFIED:20260422T070945
LOCATION:Main Campus Sanctuary
SUMMARY:Sunday School
URL;VALUE=URI:https://www.boonevillefupc.com/events/sunday-school/2026-09-2
 0
END:VEVENT
END:VCALENDAR
