BEGIN:VCALENDAR
VERSION:2.0
PRODID:icalendar-ruby
CALSCALE:GREGORIAN
METHOD:PUBLISH
BEGIN:VEVENT
DTSTAMP:20260422T120555Z
UID:6-496220@boonevillefupc.com
DTSTART:20260906T150000Z
DTEND:20260907T040000Z
CLASS:PUBLIC
CREATED:20260421T200434
DESCRIPTION:
LAST-MODIFIED:20260421T200434
LOCATION:Main Campus Sanctuary
SUMMARY:Sunday School
URL;VALUE=URI:https://www.boonevillefupc.com/events/sunday-school/2026-09-0
 6
END:VEVENT
END:VCALENDAR
