BEGIN:VCALENDAR
VERSION:2.0
PRODID:icalendar-ruby
CALSCALE:GREGORIAN
METHOD:PUBLISH
BEGIN:VEVENT
DTSTAMP:20260422T094047Z
UID:6-496218@boonevillefupc.com
DTSTART:20260823T150000Z
DTEND:20260824T040000Z
CLASS:PUBLIC
CREATED:20260421T200434
DESCRIPTION:
LAST-MODIFIED:20260421T200434
LOCATION:Main Campus Sanctuary
SUMMARY:Sunday School
URL;VALUE=URI:https://www.boonevillefupc.com/events/sunday-school/2026-08-2
 3
END:VEVENT
END:VCALENDAR
