BEGIN:VCALENDAR
VERSION:2.0
PRODID:icalendar-ruby
CALSCALE:GREGORIAN
METHOD:PUBLISH
BEGIN:VEVENT
DTSTAMP:20260422T083446Z
UID:6-496217@boonevillefupc.com
DTSTART:20260816T150000Z
DTEND:20260817T040000Z
CLASS:PUBLIC
CREATED:20260421T200434
DESCRIPTION:
LAST-MODIFIED:20260421T200434
LOCATION:Main Campus Sanctuary
SUMMARY:Sunday School
URL;VALUE=URI:https://www.boonevillefupc.com/events/sunday-school/2026-08-1
 6
END:VEVENT
END:VCALENDAR
