BEGIN:VCALENDAR
VERSION:2.0
PRODID:icalendar-ruby
CALSCALE:GREGORIAN
METHOD:PUBLISH
BEGIN:VEVENT
DTSTAMP:20260421T132659Z
UID:8-494486@boonevillefupc.com
DTSTART:20261029T000000Z
DTEND:20261029T010000Z
CLASS:PUBLIC
CREATED:20260421T065622
DESCRIPTION:
LAST-MODIFIED:20260421T065622
LOCATION:Various Locations
SUMMARY:Life Groups
URL;VALUE=URI:https://www.boonevillefupc.com/events/life-groups/2026-10-28
END:VEVENT
END:VCALENDAR
