BEGIN:VCALENDAR
VERSION:2.0
PRODID:icalendar-ruby
CALSCALE:GREGORIAN
METHOD:PUBLISH
BEGIN:VEVENT
DTSTAMP:20260421T120738Z
UID:8-494485@boonevillefupc.com
DTSTART:20261022T000000Z
DTEND:20261022T010000Z
CLASS:PUBLIC
CREATED:20260421T065622
DESCRIPTION:
LAST-MODIFIED:20260421T065622
LOCATION:Various Locations
SUMMARY:Life Groups
URL;VALUE=URI:https://www.boonevillefupc.com/events/life-groups/2026-10-21
END:VEVENT
END:VCALENDAR
