BEGIN:VCALENDAR
VERSION:2.0
PRODID:icalendar-ruby
CALSCALE:GREGORIAN
METHOD:PUBLISH
BEGIN:VEVENT
DTSTAMP:20260421T074035Z
UID:8-494080@boonevillefupc.com
DTSTART:20261001T000000Z
DTEND:20261001T010000Z
CLASS:PUBLIC
CREATED:20260420T194944
DESCRIPTION:
LAST-MODIFIED:20260420T194944
LOCATION:Various Locations
SUMMARY:Life Groups
URL;VALUE=URI:https://www.boonevillefupc.com/events/life-groups/2026-09-30
END:VEVENT
END:VCALENDAR
