BEGIN:VCALENDAR
VERSION:2.0
PRODID:icalendar-ruby
CALSCALE:GREGORIAN
METHOD:PUBLISH
BEGIN:VEVENT
DTSTAMP:20260421T030217Z
UID:8-494077@boonevillefupc.com
DTSTART:20260910T000000Z
DTEND:20260910T010000Z
CLASS:PUBLIC
CREATED:20260420T194944
DESCRIPTION:
LAST-MODIFIED:20260420T194944
LOCATION:Various Locations
SUMMARY:Life Groups
URL;VALUE=URI:https://www.boonevillefupc.com/events/life-groups/2026-09-09
END:VEVENT
END:VCALENDAR
